Package: DNAshapeR Version: 1.37.0 Command: /home/biocbuild/bbs-3.22-bioc/R/bin/R CMD INSTALL DNAshapeR StartedAt: 2025-10-27 15:18:47 -0400 (Mon, 27 Oct 2025) EndedAt: 2025-10-27 15:19:22 -0400 (Mon, 27 Oct 2025) EllapsedTime: 35.7 seconds RetCode: 0 Status: OK