Package: DNAshapeR Version: 1.37.0 Command: /home/biocbuild/bbs-3.22-bioc/R/bin/R CMD build --keep-empty-dirs --no-resave-data --md5 DNAshapeR StartedAt: 2025-10-27 17:24:09 -0400 (Mon, 27 Oct 2025) EndedAt: 2025-10-27 17:25:15 -0400 (Mon, 27 Oct 2025) EllapsedTime: 66.0 seconds RetCode: 0 Status: OK PackageFile: DNAshapeR_1.37.0.tar.gz PackageFileSize: 1.1 MiB