Package: DNAfusion Version: 1.11.0 Command: /home/biocbuild/bbs-3.22-bioc/R/bin/R CMD INSTALL DNAfusion StartedAt: 2025-10-27 15:47:19 -0400 (Mon, 27 Oct 2025) EndedAt: 2025-10-27 15:47:52 -0400 (Mon, 27 Oct 2025) EllapsedTime: 32.7 seconds RetCode: 0 Status: OK