Package: DNAfusion Version: 1.12.0 Command: /Library/Frameworks/R.framework/Resources/bin/R CMD INSTALL DNAfusion StartedAt: 2025-11-10 15:23:48 -0500 (Mon, 10 Nov 2025) EndedAt: 2025-11-10 15:24:01 -0500 (Mon, 10 Nov 2025) EllapsedTime: 13.3 seconds RetCode: 0 Status: OK