Package: DNAcycP2 Version: 1.2.0 Command: /home/biocbuild/bbs-3.22-bioc/R/bin/R CMD build --keep-empty-dirs --no-resave-data --md5 DNAcycP2 StartedAt: 2025-11-16 17:29:37 -0500 (Sun, 16 Nov 2025) EndedAt: 2025-11-16 17:30:59 -0500 (Sun, 16 Nov 2025) EllapsedTime: 82.0 seconds RetCode: 0 Status: OK PackageFile: DNAcycP2_1.2.0.tar.gz PackageFileSize: 2.317 MiB