Package: DNABarcodes Version: 1.40.0 Command: /Library/Frameworks/R.framework/Resources/bin/R CMD INSTALL DNABarcodes StartedAt: 2025-11-10 15:02:56 -0500 (Mon, 10 Nov 2025) EndedAt: 2025-11-10 15:03:16 -0500 (Mon, 10 Nov 2025) EllapsedTime: 20.5 seconds RetCode: 0 Status: OK