Package: DNABarcodes Version: 1.40.0 Command: /Library/Frameworks/R.framework/Resources/bin/R CMD build --keep-empty-dirs --no-resave-data DNABarcodes StartedAt: 2025-11-10 16:14:37 -0500 (Mon, 10 Nov 2025) EndedAt: 2025-11-10 16:15:03 -0500 (Mon, 10 Nov 2025) EllapsedTime: 26.3 seconds RetCode: 0 Status: OK PackageFile: DNABarcodes_1.40.0.tar.gz PackageFileSize: 347.9 KiB