Package: DNABarcodes Version: 1.40.0 Command: rm -rf DNABarcodes.buildbin-libdir && mkdir DNABarcodes.buildbin-libdir && /Users/biocbuild/BBS/utils/build-universal.sh DNABarcodes_1.40.0.tar.gz /Library/Frameworks/R.framework/Resources/bin/R DNABarcodes.buildbin-libdir StartedAt: 2025-11-10 23:18:21 -0500 (Mon, 10 Nov 2025) EndedAt: 2025-11-10 23:18:42 -0500 (Mon, 10 Nov 2025) EllapsedTime: 20.3 seconds RetCode: 0 Status: OK PackageFile: DNABarcodes_1.40.0.tgz PackageFileSize: 480.2 KiB