Package: DNABarcodeCompatibility Version: 1.26.0 Command: /Library/Frameworks/R.framework/Resources/bin/R CMD INSTALL DNABarcodeCompatibility StartedAt: 2025-11-10 15:05:09 -0500 (Mon, 10 Nov 2025) EndedAt: 2025-11-10 15:05:18 -0500 (Mon, 10 Nov 2025) EllapsedTime: 9.2 seconds RetCode: 0 Status: OK