Package: DNABarcodeCompatibility Version: 1.26.0 Command: /Library/Frameworks/R.framework/Resources/bin/R CMD build --keep-empty-dirs --no-resave-data DNABarcodeCompatibility StartedAt: 2025-11-10 16:14:32 -0500 (Mon, 10 Nov 2025) EndedAt: 2025-11-10 16:14:54 -0500 (Mon, 10 Nov 2025) EllapsedTime: 22.2 seconds RetCode: 0 Status: OK PackageFile: DNABarcodeCompatibility_1.26.0.tar.gz PackageFileSize: 260.4 KiB