Package: DNABarcodeCompatibility Version: 1.26.0 Command: rm -rf DNABarcodeCompatibility.buildbin-libdir && mkdir DNABarcodeCompatibility.buildbin-libdir && /Users/biocbuild/BBS/utils/build-universal.sh DNABarcodeCompatibility_1.26.0.tar.gz /Library/Frameworks/R.framework/Resources/bin/R DNABarcodeCompatibility.buildbin-libdir StartedAt: 2025-11-10 23:18:21 -0500 (Mon, 10 Nov 2025) EndedAt: 2025-11-10 23:18:31 -0500 (Mon, 10 Nov 2025) EllapsedTime: 10.2 seconds RetCode: 0 Status: OK PackageFile: DNABarcodeCompatibility_1.26.0.tgz PackageFileSize: 388.1 KiB