Package: DFplyr Version: 1.4.0 Command: /home/biocbuild/bbs-3.22-bioc/R/bin/R CMD build --keep-empty-dirs --no-resave-data --md5 DFplyr StartedAt: 2025-11-17 20:40:05 -0500 (Mon, 17 Nov 2025) EndedAt: 2025-11-17 20:40:22 -0500 (Mon, 17 Nov 2025) EllapsedTime: 17.0 seconds RetCode: 0 Status: OK PackageFile: DFplyr_1.4.0.tar.gz PackageFileSize: 396.9 KiB