Package: DFP Version: 1.68.0 Command: /home/biocbuild/bbs-3.22-bioc/R/bin/R CMD INSTALL DFP StartedAt: 2025-11-06 15:11:59 -0500 (Thu, 06 Nov 2025) EndedAt: 2025-11-06 15:12:04 -0500 (Thu, 06 Nov 2025) EllapsedTime: 4.2 seconds RetCode: 0 Status: OK