Package: DFP Version: 1.68.0 Command: /home/biocbuild/bbs-3.22-bioc/R/bin/R CMD build --keep-empty-dirs --no-resave-data --md5 DFP StartedAt: 2025-11-06 17:19:36 -0500 (Thu, 06 Nov 2025) EndedAt: 2025-11-06 17:19:45 -0500 (Thu, 06 Nov 2025) EllapsedTime: 9.0 seconds RetCode: 0 Status: OK PackageFile: DFP_1.68.0.tar.gz PackageFileSize: 498 KiB