Package: DExMA Version: 1.18.0 Command: /home/biocbuild/bbs-3.22-bioc/R/bin/R CMD INSTALL DExMA StartedAt: 2025-11-03 15:34:57 -0500 (Mon, 03 Nov 2025) EndedAt: 2025-11-03 15:35:32 -0500 (Mon, 03 Nov 2025) EllapsedTime: 34.2 seconds RetCode: 0 Status: OK