Package: DExMA Version: 1.18.0 Command: /home/biocbuild/bbs-3.22-bioc/R/bin/R CMD build --keep-empty-dirs --no-resave-data --md5 DExMA StartedAt: 2025-11-03 17:20:39 -0500 (Mon, 03 Nov 2025) EndedAt: 2025-11-03 17:21:34 -0500 (Mon, 03 Nov 2025) EllapsedTime: 55.0 seconds RetCode: 0 Status: OK PackageFile: DExMA_1.18.0.tar.gz PackageFileSize: 317.4 KiB