Package: DEXSeq Version: 1.56.0 Command: /home/biocbuild/bbs-3.22-bioc/R/bin/R CMD INSTALL DEXSeq StartedAt: 2025-11-14 15:30:33 -0500 (Fri, 14 Nov 2025) EndedAt: 2025-11-14 15:31:12 -0500 (Fri, 14 Nov 2025) EllapsedTime: 38.3 seconds RetCode: 0 Status: OK