Package: DEXSeq Version: 1.56.0 Command: /home/biocbuild/bbs-3.22-bioc/R/bin/R CMD build --keep-empty-dirs --no-resave-data --md5 DEXSeq StartedAt: 2025-11-14 17:22:33 -0500 (Fri, 14 Nov 2025) EndedAt: 2025-11-14 17:24:30 -0500 (Fri, 14 Nov 2025) EllapsedTime: 117.1 seconds RetCode: 0 Status: OK PackageFile: DEXSeq_1.56.0.tar.gz PackageFileSize: 1.644 MiB