Package: DEWSeq Version: 1.23.1 Command: /home/biocbuild/bbs-3.22-bioc/R/bin/R CMD INSTALL DEWSeq StartedAt: 2025-10-24 15:32:09 -0400 (Fri, 24 Oct 2025) EndedAt: 2025-10-24 15:32:34 -0400 (Fri, 24 Oct 2025) EllapsedTime: 25.4 seconds RetCode: 0 Status: OK