Package: DESpace Version: 2.2.1 Command: /home/biocbuild/bbs-3.22-bioc/R/bin/R CMD INSTALL DESpace StartedAt: 2025-11-17 17:30:43 -0500 (Mon, 17 Nov 2025) EndedAt: 2025-11-17 17:31:28 -0500 (Mon, 17 Nov 2025) EllapsedTime: 45.0 seconds RetCode: 0 Status: OK