Package: DEP Version: 1.32.0 Command: /home/biocbuild/bbs-3.22-bioc/R/bin/R CMD INSTALL DEP StartedAt: 2025-11-06 15:39:08 -0500 (Thu, 06 Nov 2025) EndedAt: 2025-11-06 15:39:56 -0500 (Thu, 06 Nov 2025) EllapsedTime: 47.9 seconds RetCode: 0 Status: OK