Package: DEP Version: 1.32.0 Command: /home/biocbuild/bbs-3.22-bioc/R/bin/R CMD build --keep-empty-dirs --no-resave-data --md5 DEP StartedAt: 2025-11-06 17:16:59 -0500 (Thu, 06 Nov 2025) EndedAt: 2025-11-06 17:18:33 -0500 (Thu, 06 Nov 2025) EllapsedTime: 94.1 seconds RetCode: 0 Status: OK PackageFile: DEP_1.32.0.tar.gz PackageFileSize: 3.45 MiB