Package: DEGseq Version: 1.64.0 Command: /home/biocbuild/bbs-3.22-bioc/R/bin/R CMD build --keep-empty-dirs --no-resave-data --md5 DEGseq StartedAt: 2025-11-13 17:16:59 -0500 (Thu, 13 Nov 2025) EndedAt: 2025-11-13 17:17:21 -0500 (Thu, 13 Nov 2025) EllapsedTime: 22.0 seconds RetCode: 0 Status: OK PackageFile: DEGseq_1.64.0.tar.gz PackageFileSize: 1.963 MiB