Package: DEFormats Version: 1.38.0 Command: /home/biocbuild/bbs-3.22-bioc/R/bin/R CMD INSTALL DEFormats StartedAt: 2025-11-14 15:32:27 -0500 (Fri, 14 Nov 2025) EndedAt: 2025-11-14 15:32:53 -0500 (Fri, 14 Nov 2025) EllapsedTime: 26.3 seconds RetCode: 0 Status: OK