Package: DEFormats Version: 1.38.0 Command: /home/biocbuild/bbs-3.22-bioc/R/bin/R CMD build --keep-empty-dirs --no-resave-data --md5 DEFormats StartedAt: 2025-11-14 17:16:45 -0500 (Fri, 14 Nov 2025) EndedAt: 2025-11-14 17:17:29 -0500 (Fri, 14 Nov 2025) EllapsedTime: 44.0 seconds RetCode: 0 Status: OK PackageFile: DEFormats_1.38.0.tar.gz PackageFileSize: 227.2 KiB