Package: DECIPHER Version: 3.6.0 Command: /home/biocbuild/bbs-3.22-bioc/R/bin/R CMD INSTALL DECIPHER StartedAt: 2025-11-16 15:33:29 -0500 (Sun, 16 Nov 2025) EndedAt: 2025-11-16 15:34:31 -0500 (Sun, 16 Nov 2025) EllapsedTime: 62.3 seconds RetCode: 0 Status: OK