Package: DCATS Version: 1.7.0 Command: /home/biocbuild/bbs-3.22-bioc/R/bin/R CMD INSTALL DCATS StartedAt: 2025-10-28 15:04:38 -0400 (Tue, 28 Oct 2025) EndedAt: 2025-10-28 15:04:48 -0400 (Tue, 28 Oct 2025) EllapsedTime: 10.0 seconds RetCode: 0 Status: OK