Package: DAPAR Version: 1.42.0 Command: /home/biocbuild/bbs-3.22-bioc/R/bin/R CMD INSTALL DAPAR StartedAt: 2025-10-29 21:54:11 -0400 (Wed, 29 Oct 2025) EndedAt: 2025-10-29 21:54:55 -0400 (Wed, 29 Oct 2025) EllapsedTime: 44.1 seconds RetCode: 0 Status: OK