Package: CytoPipelineGUI Version: 1.8.0 Command: /home/biocbuild/bbs-3.22-bioc/R/bin/R CMD check --install=check:CytoPipelineGUI.install-out.txt --library=/home/biocbuild/bbs-3.22-bioc/R/site-library --timings CytoPipelineGUI_1.8.0.tar.gz StartedAt: 2025-11-06 22:37:55 -0500 (Thu, 06 Nov 2025) EndedAt: 2025-11-06 22:41:18 -0500 (Thu, 06 Nov 2025) EllapsedTime: 203.2 seconds RetCode: 0 Status: OK CheckDir: CytoPipelineGUI.Rcheck Warnings: 0