Package: CytoPipeline Version: 1.10.0 Command: /Library/Frameworks/R.framework/Resources/bin/R CMD INSTALL CytoPipeline StartedAt: 2025-11-03 15:37:43 -0500 (Mon, 03 Nov 2025) EndedAt: 2025-11-03 15:38:06 -0500 (Mon, 03 Nov 2025) EllapsedTime: 23.0 seconds RetCode: 0 Status: OK