Package: CytoPipeline Version: 1.10.0 Command: /Library/Frameworks/R.framework/Resources/bin/R CMD build --keep-empty-dirs --no-resave-data CytoPipeline StartedAt: 2025-11-03 16:41:07 -0500 (Mon, 03 Nov 2025) EndedAt: 2025-11-03 16:42:09 -0500 (Mon, 03 Nov 2025) EllapsedTime: 61.7 seconds RetCode: 0 Status: OK PackageFile: CytoPipeline_1.10.0.tar.gz PackageFileSize: 3.345 MiB