Package: CytoPipeline Version: 1.10.0 Command: rm -rf CytoPipeline.buildbin-libdir && mkdir CytoPipeline.buildbin-libdir && /Users/biocbuild/BBS/utils/build-universal.sh CytoPipeline_1.10.0.tar.gz /Library/Frameworks/R.framework/Resources/bin/R CytoPipeline.buildbin-libdir StartedAt: 2025-11-04 01:35:45 -0500 (Tue, 04 Nov 2025) EndedAt: 2025-11-04 01:36:10 -0500 (Tue, 04 Nov 2025) EllapsedTime: 25.6 seconds RetCode: 0 Status: OK PackageFile: CytoPipeline_1.10.0.tgz PackageFileSize: 3.527 MiB