Package: CytoPipeline Version: 1.9.4 Command: /Library/Frameworks/R.framework/Resources/bin/R CMD INSTALL CytoPipeline StartedAt: 2025-10-27 15:10:11 -0400 (Mon, 27 Oct 2025) EndedAt: 2025-10-27 15:10:18 -0400 (Mon, 27 Oct 2025) EllapsedTime: 6.7 seconds RetCode: 0 Status: OK