Package: CytoML Version: 2.22.0 Command: /Library/Frameworks/R.framework/Resources/bin/R CMD INSTALL CytoML StartedAt: 2025-11-03 15:37:41 -0500 (Mon, 03 Nov 2025) EndedAt: 2025-11-03 15:38:58 -0500 (Mon, 03 Nov 2025) EllapsedTime: 76.4 seconds RetCode: 0 Status: OK