Package: CytoML Version: 2.22.0 Command: /Library/Frameworks/R.framework/Resources/bin/R CMD build --keep-empty-dirs --no-resave-data CytoML StartedAt: 2025-11-03 16:41:02 -0500 (Mon, 03 Nov 2025) EndedAt: 2025-11-03 16:43:01 -0500 (Mon, 03 Nov 2025) EllapsedTime: 118.9 seconds RetCode: 0 Status: OK PackageFile: CytoML_2.22.0.tar.gz PackageFileSize: 8.564 MiB