Package: CytoML Version: 2.22.0 Command: rm -rf CytoML.buildbin-libdir && mkdir CytoML.buildbin-libdir && /Users/biocbuild/BBS/utils/build-universal.sh CytoML_2.22.0.tar.gz /Library/Frameworks/R.framework/Resources/bin/R CytoML.buildbin-libdir StartedAt: 2025-11-04 01:35:44 -0500 (Tue, 04 Nov 2025) EndedAt: 2025-11-04 01:37:12 -0500 (Tue, 04 Nov 2025) EllapsedTime: 87.9 seconds RetCode: 0 Status: OK PackageFile: CytoML_2.22.0.tgz PackageFileSize: 9.591 MiB