Package: CytoML Version: 2.22.0 Command: /Library/Frameworks/R.framework/Resources/bin/R CMD INSTALL CytoML StartedAt: 2025-11-02 15:11:44 -0500 (Sun, 02 Nov 2025) EndedAt: 2025-11-02 15:12:05 -0500 (Sun, 02 Nov 2025) EllapsedTime: 20.1 seconds RetCode: 0 Status: OK