Package: CytoML Version: 2.22.0 Command: /Library/Frameworks/R.framework/Resources/bin/R CMD build --keep-empty-dirs --no-resave-data CytoML StartedAt: 2025-11-02 16:06:43 -0500 (Sun, 02 Nov 2025) EndedAt: 2025-11-02 16:07:18 -0500 (Sun, 02 Nov 2025) EllapsedTime: 35.4 seconds RetCode: 0 Status: OK PackageFile: CytoML_2.22.0.tar.gz PackageFileSize: 8.566 MiB