Package: CytoGLMM Version: 1.17.3 Command: /home/biocbuild/bbs-3.22-bioc/R/bin/R CMD INSTALL CytoGLMM StartedAt: 2025-10-27 15:12:54 -0400 (Mon, 27 Oct 2025) EndedAt: 2025-10-27 15:13:17 -0400 (Mon, 27 Oct 2025) EllapsedTime: 22.6 seconds RetCode: 0 Status: OK