Package: CytoGLMM Version: 1.17.3 Command: /home/biocbuild/bbs-3.22-bioc/R/bin/R CMD build --keep-empty-dirs --no-resave-data --md5 CytoGLMM StartedAt: 2025-10-27 17:09:23 -0400 (Mon, 27 Oct 2025) EndedAt: 2025-10-27 17:10:54 -0400 (Mon, 27 Oct 2025) EllapsedTime: 91.1 seconds RetCode: 0 Status: OK PackageFile: CytoGLMM_1.17.3.tar.gz PackageFileSize: 345.9 KiB