Package: CuratedAtlasQueryR Version: 1.7.0 Command: /home/biocbuild/bbs-3.22-bioc/R/bin/R CMD INSTALL CuratedAtlasQueryR StartedAt: 2025-10-02 15:35:39 -0400 (Thu, 02 Oct 2025) EndedAt: 2025-10-02 15:36:17 -0400 (Thu, 02 Oct 2025) EllapsedTime: 37.4 seconds RetCode: 0 Status: OK