Package: CuratedAtlasQueryR Version: 1.7.0 Command: /home/biocbuild/bbs-3.22-bioc/R/bin/R CMD build --keep-empty-dirs --no-resave-data --md5 CuratedAtlasQueryR StartedAt: 2025-10-02 17:06:28 -0400 (Thu, 02 Oct 2025) EndedAt: 2025-10-02 17:08:18 -0400 (Thu, 02 Oct 2025) EllapsedTime: 110.1 seconds RetCode: 0 Status: OK PackageFile: CuratedAtlasQueryR_1.7.0.tar.gz PackageFileSize: 979.2 KiB