Package: CuratedAtlasQueryR Version: 1.8.0 Command: /Library/Frameworks/R.framework/Resources/bin/R CMD INSTALL CuratedAtlasQueryR StartedAt: 2025-11-03 15:25:06 -0500 (Mon, 03 Nov 2025) EndedAt: 2025-11-03 15:25:58 -0500 (Mon, 03 Nov 2025) EllapsedTime: 52.1 seconds RetCode: 0 Status: OK