Package: CuratedAtlasQueryR Version: 1.8.0 Command: /Library/Frameworks/R.framework/Resources/bin/R CMD build --keep-empty-dirs --no-resave-data CuratedAtlasQueryR StartedAt: 2025-11-03 16:39:28 -0500 (Mon, 03 Nov 2025) EndedAt: 2025-11-03 16:41:48 -0500 (Mon, 03 Nov 2025) EllapsedTime: 139.7 seconds RetCode: 0 Status: OK PackageFile: CuratedAtlasQueryR_1.8.0.tar.gz PackageFileSize: 967.2 KiB