Package: CuratedAtlasQueryR Version: 1.7.0 Command: /Library/Frameworks/R.framework/Resources/bin/R CMD INSTALL CuratedAtlasQueryR StartedAt: 2025-10-27 15:11:53 -0400 (Mon, 27 Oct 2025) EndedAt: 2025-10-27 15:12:10 -0400 (Mon, 27 Oct 2025) EllapsedTime: 16.8 seconds RetCode: 0 Status: OK