Package: CuratedAtlasQueryR Version: 1.7.0 Command: /Library/Frameworks/R.framework/Resources/bin/R CMD build --keep-empty-dirs --no-resave-data CuratedAtlasQueryR StartedAt: 2025-10-27 16:05:17 -0400 (Mon, 27 Oct 2025) EndedAt: 2025-10-27 16:06:11 -0400 (Mon, 27 Oct 2025) EllapsedTime: 54.6 seconds RetCode: 0 Status: OK PackageFile: CuratedAtlasQueryR_1.7.0.tar.gz PackageFileSize: 967.6 KiB