Package: CoverageView Version: 1.48.0 Command: /Library/Frameworks/R.framework/Resources/bin/R CMD INSTALL CoverageView StartedAt: 2025-10-30 15:27:37 -0400 (Thu, 30 Oct 2025) EndedAt: 2025-10-30 15:28:18 -0400 (Thu, 30 Oct 2025) EllapsedTime: 41.3 seconds RetCode: 0 Status: OK