Package: CoverageView Version: 1.48.0 Command: /Library/Frameworks/R.framework/Resources/bin/R CMD build --keep-empty-dirs --no-resave-data CoverageView StartedAt: 2025-10-30 16:30:28 -0400 (Thu, 30 Oct 2025) EndedAt: 2025-10-30 16:31:28 -0400 (Thu, 30 Oct 2025) EllapsedTime: 60.7 seconds RetCode: 0 Status: OK PackageFile: CoverageView_1.48.0.tar.gz PackageFileSize: 2.553 MiB