Package: CoverageView Version: 1.48.0 Command: rm -rf CoverageView.buildbin-libdir && mkdir CoverageView.buildbin-libdir && /Users/biocbuild/BBS/utils/build-universal.sh CoverageView_1.48.0.tar.gz /Library/Frameworks/R.framework/Resources/bin/R CoverageView.buildbin-libdir StartedAt: 2025-11-01 01:28:59 -0400 (Sat, 01 Nov 2025) EndedAt: 2025-11-01 01:29:45 -0400 (Sat, 01 Nov 2025) EllapsedTime: 46.0 seconds RetCode: 0 Status: OK PackageFile: CoverageView_1.48.0.tgz PackageFileSize: 2.959 MiB