Package: CoverageView Version: 1.47.0 Command: /Library/Frameworks/R.framework/Resources/bin/R CMD INSTALL CoverageView StartedAt: 2025-10-24 15:19:21 -0400 (Fri, 24 Oct 2025) EndedAt: 2025-10-24 15:19:33 -0400 (Fri, 24 Oct 2025) EllapsedTime: 12.2 seconds RetCode: 0 Status: OK